BEGIN:VCALENDAR
VERSION:2.0
PRODID:-//Verschönerungsverein Weilheim - ECPv6.5.0//NONSGML v1.0//EN
CALSCALE:GREGORIAN
METHOD:PUBLISH
X-ORIGINAL-URL:https://vvwm.de
X-WR-CALDESC:Veranstaltungen für Verschönerungsverein Weilheim
REFRESH-INTERVAL;VALUE=DURATION:PT1H
X-Robots-Tag:noindex
X-PUBLISHED-TTL:PT1H
BEGIN:VTIMEZONE
TZID:Europe/Paris
BEGIN:DAYLIGHT
TZOFFSETFROM:+0100
TZOFFSETTO:+0200
TZNAME:CEST
DTSTART:20220327T010000
END:DAYLIGHT
BEGIN:STANDARD
TZOFFSETFROM:+0200
TZOFFSETTO:+0100
TZNAME:CET
DTSTART:20221030T010000
END:STANDARD
END:VTIMEZONE
BEGIN:VEVENT
DTSTART;TZID=Europe/Paris:20220524T190000
DTEND;TZID=Europe/Paris:20220524T220000
DTSTAMP:20260422T192535
CREATED:20220418T080025Z
LAST-MODIFIED:20220419T052551Z
UID:1438-1653418800-1653429600@vvwm.de
SUMMARY:Jahreshauptversammlung 2022
DESCRIPTION:Jahreshauptversammlung 2022
URL:https://vvwm.de/event/jahreshauptversammlung-2022/
LOCATION:Dachsbräu Weilheim\, Weilheim\, 82362\, Deutschland
END:VEVENT
END:VCALENDAR